BEGIN:VCALENDAR
VERSION:2.0
PRODID:-//The St Benedict Center for Spiritual Formation - ECPv6.15.20//NONSGML v1.0//EN
CALSCALE:GREGORIAN
METHOD:PUBLISH
X-WR-CALNAME:The St Benedict Center for Spiritual Formation
X-ORIGINAL-URL:https://stbenedict-csf.org
X-WR-CALDESC:Events for The St Benedict Center for Spiritual Formation
REFRESH-INTERVAL;VALUE=DURATION:PT1H
X-Robots-Tag:noindex
X-PUBLISHED-TTL:PT1H
BEGIN:VTIMEZONE
TZID:America/New_York
BEGIN:DAYLIGHT
TZOFFSETFROM:-0500
TZOFFSETTO:-0400
TZNAME:EDT
DTSTART:20210314T070000
END:DAYLIGHT
BEGIN:STANDARD
TZOFFSETFROM:-0400
TZOFFSETTO:-0500
TZNAME:EST
DTSTART:20211107T060000
END:STANDARD
BEGIN:DAYLIGHT
TZOFFSETFROM:-0500
TZOFFSETTO:-0400
TZNAME:EDT
DTSTART:20220313T070000
END:DAYLIGHT
BEGIN:STANDARD
TZOFFSETFROM:-0400
TZOFFSETTO:-0500
TZNAME:EST
DTSTART:20221106T060000
END:STANDARD
BEGIN:DAYLIGHT
TZOFFSETFROM:-0500
TZOFFSETTO:-0400
TZNAME:EDT
DTSTART:20230312T070000
END:DAYLIGHT
BEGIN:STANDARD
TZOFFSETFROM:-0400
TZOFFSETTO:-0500
TZNAME:EST
DTSTART:20231105T060000
END:STANDARD
END:VTIMEZONE
BEGIN:VTIMEZONE
TZID:UTC
BEGIN:STANDARD
TZOFFSETFROM:+0000
TZOFFSETTO:+0000
TZNAME:UTC
DTSTART:20200101T000000
END:STANDARD
END:VTIMEZONE
BEGIN:VEVENT
DTSTART;TZID=America/New_York:20221021T190000
DTEND;TZID=America/New_York:20221022T120000
DTSTAMP:20260423T125142
CREATED:20220907T152146Z
LAST-MODIFIED:20220907T153552Z
UID:1131-1666378800-1666440000@stbenedict-csf.org
SUMMARY:Autumn 2022 Lectio Series\, Beyond Narnia: C.S. Lewis\, Imagination\, and Spiritual Formation
DESCRIPTION:The St Benedict Center welcomes Revd Beckmann\, Author\, Priest\, and C.S. Lewis Scholar\, to present our Autumn 2022 Lectio Series\, Beyond Narnia: C.S. Lewis\, Imagination\, and Spiritual Formation. Beckmann has studied and taught on the writings of C.S. Lewis for more than 30 years. He is the former director of the The C.S. Lewis Study Center at The Kilns\, C.S. Lewis’ Oxford residence\, and writes regularly for the C.S. Lewis Foundation blog. Beckmann is an ordained priest in the Anglican Church in North America and currently serves as the Executive Director of the Christian Study Center of Chattanooga. \nRevd Beckmann will deliver three addresses on the place of the imagination in C.S. Lewis’ writings\, both fiction and non-fiction. An outline of the lectures is as follows: \n\nFriday\, October 21\, 7pm: Lewis’ Life and Fiction\nSaturday\, October 22\, 9am: The Nature of the Imagination\, Dialogues with Owen Barfield\, and Radical Orthodoxy\nSaturday\, October 22\, 10.30: The Imagination and Christian Hope\n\nA wine and cheese reception will follow the Friday evening lecture. Coffee and refreshments will be available for the Saturday morning sessions. \nThe Lectio Series is free and all are welcome to attend!
URL:https://stbenedict-csf.org/event/autumn-2022-lectio-series-beyond-narnia-c-s-lewis-imagination-and-spiritual-formation/
LOCATION:Apostles Anglican Church\, 1540 Robinson Rd.\, Knoxville\, TN\, 37923\, United States
CATEGORIES:Lectio Series
END:VEVENT
BEGIN:VEVENT
DTSTART;TZID=America/New_York:20220311T190000
DTEND;TZID=America/New_York:20220312T120000
DTSTAMP:20260423T125142
CREATED:20220217T033334Z
LAST-MODIFIED:20220217T033442Z
UID:1016-1647025200-1647086400@stbenedict-csf.org
SUMMARY:Encountering Jesus In Darkness
DESCRIPTION:
URL:https://stbenedict-csf.org/event/encountering-jesus-in-darkness/
LOCATION:Apostles Anglican Church\, 1540 Robinson Rd.\, Knoxville\, TN\, 37923\, United States
CATEGORIES:Lectio Series
ATTACH;FMTTYPE=image/png:https://stbenedict-csf.org/wp-content/uploads/2022/02/Encountering-Jesus-Darkness-Landscape.png
END:VEVENT
BEGIN:VEVENT
DTSTART;TZID=UTC:20211015T190000
DTEND;TZID=UTC:20211016T120000
DTSTAMP:20260423T125142
CREATED:20210815T021058Z
LAST-MODIFIED:20210815T021305Z
UID:799-1634324400-1634385600@stbenedict-csf.org
SUMMARY:Lectio Series: The Gift of Liturgy for Spiritual Formation
DESCRIPTION:Please join us for our inaugural weekend in The Lectio Series\, featuring the Revd Dr Winfield Bevins from Asbury Theological\nSeminary. Our theme for this inaugural event is The Gift of Liturgy for Spiritual Formation. Dr Bevins will offer us a holistic way of thinking about liturgy that incorporates worship\, formation\, and mission.
URL:https://stbenedict-csf.org/event/lectio-series-the-gift-of-liturgy-for-spiritual-formation/
LOCATION:Apostles Anglican Church\, 1540 Robinson Rd.\, Knoxville\, TN\, 37923\, United States
CATEGORIES:Lectio Series
END:VEVENT
END:VCALENDAR